BEGIN:VCALENDAR
VERSION:2.0
PRODID:-//New Jersey Christmas Tree Growers Association - ECPv6.15.16.1//NONSGML v1.0//EN
CALSCALE:GREGORIAN
METHOD:PUBLISH
X-WR-CALNAME:New Jersey Christmas Tree Growers Association
X-ORIGINAL-URL:https://njchristmastrees.org
X-WR-CALDESC:Events for New Jersey Christmas Tree Growers Association
REFRESH-INTERVAL;VALUE=DURATION:PT1H
X-Robots-Tag:noindex
X-PUBLISHED-TTL:PT1H
BEGIN:VTIMEZONE
TZID:America/New_York
BEGIN:DAYLIGHT
TZOFFSETFROM:-0500
TZOFFSETTO:-0400
TZNAME:EDT
DTSTART:20250309T070000
END:DAYLIGHT
BEGIN:STANDARD
TZOFFSETFROM:-0400
TZOFFSETTO:-0500
TZNAME:EST
DTSTART:20251102T060000
END:STANDARD
BEGIN:DAYLIGHT
TZOFFSETFROM:-0500
TZOFFSETTO:-0400
TZNAME:EDT
DTSTART:20260308T070000
END:DAYLIGHT
BEGIN:STANDARD
TZOFFSETFROM:-0400
TZOFFSETTO:-0500
TZNAME:EST
DTSTART:20261101T060000
END:STANDARD
BEGIN:DAYLIGHT
TZOFFSETFROM:-0500
TZOFFSETTO:-0400
TZNAME:EDT
DTSTART:20270314T070000
END:DAYLIGHT
BEGIN:STANDARD
TZOFFSETFROM:-0400
TZOFFSETTO:-0500
TZNAME:EST
DTSTART:20271107T060000
END:STANDARD
END:VTIMEZONE
BEGIN:VTIMEZONE
TZID:UTC
BEGIN:STANDARD
TZOFFSETFROM:+0000
TZOFFSETTO:+0000
TZNAME:UTC
DTSTART:20130101T000000
END:STANDARD
END:VTIMEZONE
BEGIN:VEVENT
DTSTART;TZID=America/New_York:20260131T081500
DTEND;TZID=America/New_York:20260131T150000
DTSTAMP:20260423T103953
CREATED:20260101T203529Z
LAST-MODIFIED:20260129T204006Z
UID:2573-1769847300-1769871600@njchristmastrees.org
SUMMARY:2026 Winter Meeting
DESCRIPTION:Join us for the 2026 Annual Winter Meeting on Saturday\, January 31st  at Rutgers EcoComplex in Bordentown from 8:15 to 3:00.  Registration and breakfast 8:15 – 9:00. Meeting begins at 9:00. A hot catered lunch will be served at 12:00.  Registration packet\, agenda\, and further information will be sent out to members.
URL:https://njchristmastrees.org/event/2026-winter-meeting/
ATTACH;FMTTYPE=image/jpeg:https://njchristmastrees.org/wp-content/uploads/2026/01/NJCTGA-2026-Annual-Winter-Meeting-01.09-copy-2.24.jpg
END:VEVENT
BEGIN:VEVENT
DTSTART;VALUE=DATE:20140125
DTEND;VALUE=DATE:20140126
DTSTAMP:20260423T103953
CREATED:20171020T223446Z
LAST-MODIFIED:20171020T224019Z
UID:697-1390608000-1390694399@njchristmastrees.org
SUMMARY:2014 Winter Meeting and Trade Show
DESCRIPTION:64th   ANNUAL WINTER MEETING\nCome and join us Saturday\, January 25th at the Rutgers ECO-Complex for this year’s exciting winter meeting.  Registrations are permitted at the door or can be made by contacting Donna Cole. The agenda and details follow. Hope to see you there. \n8:15-9:00        Registration   Coffee & Danish – Visit with Exhibitors \n9:00-9:10        Welcome   Executive Secretary/Treasurer Donna Cole and President Christian Nicholson \n9:10-9:20         Douglas H. Fisher\, Secretary of Agriculture\, State of New Jersey \nA brief synopsis of the current happenings of the agriculture communityin NJ \n9:20-10:00       Tracey Harpster\, Research Support Technician\, Dept. Plant Sciences\, Penn StateUniversity \nAre you getting the best results from your weed control program?  Methods\, materials\, & recommendations will be covered. \n10:00-10:20     Break   Networking with other Christmas tree growers \n10:20-11:15     Patricia D. Hastings\, Rutgers Cooperative Extension Pest Management Office \nPesticide Safety Update  Core credits will be available. \n11:15-12:00     Dr. Richard Buckley\, Director Plant Diagnostic Laboratory\, Rutgers Univ. \nIntegrated Pest Management for Christmas tree growers. \n12:00-1:00       Lunch  (Hot\, locally catered)  Visit with growers\, and friends \n1:00-1:45         Dr. Mark Vodak\, Specialist in Forestry\, Rutgers University \nCryptomeria Scale – A Pest of True Firs – the results of demonstration/research \nplots for scale control on New Jersey Christmas tree farms. \n1:45–2:15        John Wyckoff\, Grower\, Wyckoff’s Christmas Tree Farm \nThe experience this year of attending the NCTA\, entering a tree\, winning the \nnational contest\, and presenting trees to the First Lady and the White House. \n2:15-3:00        Annual Business Meeting    President  Chris Nicholson \nState Contest and People’s Choice Awards \n3:00                Wrap-up and Adjournment  President Chris Nicholson \n 
URL:https://njchristmastrees.org/event/2014-winter-meeting-and-trade-show/
LOCATION:Rutger’s ECO-Complex\, 1200 Florence Columbus Road\, Bordentown\, NJ\, 08505\, United States
END:VEVENT
END:VCALENDAR